BEGIN:VCALENDAR
VERSION:2.0
PRODID:-//Mountview Presbyterian Church - ECPv6.15.17//NONSGML v1.0//EN
CALSCALE:GREGORIAN
METHOD:PUBLISH
X-WR-CALNAME:Mountview Presbyterian Church
X-ORIGINAL-URL:https://mountview.church
X-WR-CALDESC:Events for Mountview Presbyterian Church
REFRESH-INTERVAL;VALUE=DURATION:PT1H
X-Robots-Tag:noindex
X-PUBLISHED-TTL:PT1H
BEGIN:VTIMEZONE
TZID:Australia/Sydney
BEGIN:STANDARD
TZOFFSETFROM:+1100
TZOFFSETTO:+1000
TZNAME:AEST
DTSTART:20250405T160000
END:STANDARD
BEGIN:DAYLIGHT
TZOFFSETFROM:+1000
TZOFFSETTO:+1100
TZNAME:AEDT
DTSTART:20251004T160000
END:DAYLIGHT
BEGIN:STANDARD
TZOFFSETFROM:+1100
TZOFFSETTO:+1000
TZNAME:AEST
DTSTART:20260404T160000
END:STANDARD
BEGIN:DAYLIGHT
TZOFFSETFROM:+1000
TZOFFSETTO:+1100
TZNAME:AEDT
DTSTART:20261003T160000
END:DAYLIGHT
BEGIN:STANDARD
TZOFFSETFROM:+1100
TZOFFSETTO:+1000
TZNAME:AEST
DTSTART:20270403T160000
END:STANDARD
BEGIN:DAYLIGHT
TZOFFSETFROM:+1000
TZOFFSETTO:+1100
TZNAME:AEDT
DTSTART:20271002T160000
END:DAYLIGHT
BEGIN:STANDARD
TZOFFSETFROM:+1100
TZOFFSETTO:+1000
TZNAME:AEST
DTSTART:20280401T160000
END:STANDARD
BEGIN:DAYLIGHT
TZOFFSETFROM:+1000
TZOFFSETTO:+1100
TZNAME:AEDT
DTSTART:20280930T160000
END:DAYLIGHT
END:VTIMEZONE
BEGIN:VEVENT
DTSTART;TZID=Australia/Sydney:20260424T183000
DTEND;TZID=Australia/Sydney:20260424T200000
DTSTAMP:20260424T090951
CREATED:20260404T185134Z
LAST-MODIFIED:20260404T185134Z
UID:9624-1777055400-1777060800@mountview.church
SUMMARY:MOUNTVIEW YOUTH TERM 2 LAUNCH
DESCRIPTION:Tonight the youth groups at both campuses relaunch after the school hols and will be kicking off the term with a social event to help our highschoolers connect after the break. Mountview Youth meets in Covenant Christian School and the Jerrabmberra Community Centre every Friday night in school term
URL:https://mountview.church/?tribe_events=mountview-youth-term-2-launch
ATTACH;FMTTYPE=image/png:https://mountview.church/wp-content/uploads/2024/05/Screenshot-2024-05-12-at-4.27.38 AM-e1715452308406.png
END:VEVENT
BEGIN:VEVENT
DTSTART;TZID=Australia/Sydney:20260426T100000
DTEND;TZID=Australia/Sydney:20260426T183000
DTSTAMP:20260424T090951
CREATED:20260404T185624Z
LAST-MODIFIED:20260404T185624Z
UID:9627-1777197600-1777228200@mountview.church
SUMMARY:KIDS CHURCH RELAUNCH - TERM 2
DESCRIPTION:Today our kids programs relaunch for term 2 after the school holiday break. Contact Libby (Tuggeranong campus) or Amelie (Jerra campus) for info on our kids ministries via office@mountview.church \n 
URL:https://mountview.church/?tribe_events=kids-church-relaunch-term-2
LOCATION:Gowrie ACT & Jerra NSW
ATTACH;FMTTYPE=image/png:https://mountview.church/wp-content/uploads/2025/06/Screenshot-2025-06-17-at-6.27.10 PM-e1750148882398.png
END:VEVENT
BEGIN:VEVENT
DTSTART;TZID=Australia/Sydney:20260426T100000
DTEND;TZID=Australia/Sydney:20260426T183000
DTSTAMP:20260424T090951
CREATED:20260411T184655Z
LAST-MODIFIED:20260411T185151Z
UID:9665-1777197600-1777228200@mountview.church
SUMMARY:PROVERBS SERMON SERIES BEGINS
DESCRIPTION:Wisdom for living\, a Bible talk series on the book of Proverbs begins April 26. This series will open up the book of Proverbs to glean wisdom for our: words\, work\, friendships\, conflicts\, sexual desire\, money\, families\, decisions\, social justice and it all begins with the fear of the Lord. \n  \nhttps://mountview.church/wp-content/uploads/2026/04/Proverbs-Sermon-Series-Facebook-Video.mp4
URL:https://mountview.church/?tribe_events=proverbs-sermon-series-begins
LOCATION:Gowrie ACT & Jerra NSW
ATTACH;FMTTYPE=image/jpeg:https://mountview.church/wp-content/uploads/2026/04/Proverbs-JPEG-16-9-Ratio-scaled.jpg
END:VEVENT
BEGIN:VEVENT
DTSTART;TZID=Australia/Sydney:20260426T123000
DTEND;TZID=Australia/Sydney:20260426T143000
DTSTAMP:20260424T090951
CREATED:20230906T201128Z
LAST-MODIFIED:20260402T173642Z
UID:7936-1777206600-1777213800@mountview.church
SUMMARY:NEWISH @ DAVE & CHARMAINE'S
DESCRIPTION:Newish is a meal for those who aren’t just new\, but new-ish. We see it as so much more than an opportunity to show you hospitality through food and company\, for it’s the pathway to start connecting with the Mountview community. So come along and let us welcome you as Christ has welcomed us (Romans 15:7)
URL:https://mountview.church/?tribe_events=newish
LOCATION:Isabella Plains ACT
ATTACH;FMTTYPE=image/png:https://mountview.church/wp-content/uploads/2023/09/Screen-Shot-2023-09-07-at-6.06.39-am-e1706333596772.png
END:VEVENT
BEGIN:VEVENT
DTSTART;TZID=Australia/Sydney:20260502T093000
DTEND;TZID=Australia/Sydney:20260502T150000
DTSTAMP:20260424T090951
CREATED:20250315T195031Z
LAST-MODIFIED:20260305T020518Z
UID:8955-1777714200-1777734000@mountview.church
SUMMARY:CANBERRA MEN'S CHRISTIAN CONVENTION
DESCRIPTION:A bunch of our men will be heading to the Convention this weekend to be challenged by Dominic Steele on why the Gospel is unstoppable from the book of Philippians. \nThere will also be talks given by Marshall Ballantyne-Jones on godliness in a tech age. \nVisit this site to purchase tix: https://canberrachristianconventions.org.au/mens/ 
URL:https://mountview.church/?tribe_events=canberra-mens-christian-convention-2
LOCATION:Kambah ACT
ATTACH;FMTTYPE=image/png:https://mountview.church/wp-content/uploads/2025/03/Screenshot-2026-03-05-at-1.03.45-PM.png
END:VEVENT
BEGIN:VEVENT
DTSTART;TZID=Australia/Sydney:20260518T090000
DTEND;TZID=Australia/Sydney:20260521T170000
DTSTAMP:20260424T090951
CREATED:20250222T193602Z
LAST-MODIFIED:20260205T003549Z
UID:8906-1779094800-1779382800@mountview.church
SUMMARY:REACH AUSTRALIA CONFERENCE
DESCRIPTION:TPC’s leadership will be travelling to the central coast to gather with other church leaders\, dig into God’s word\, challenge one another to see growth and change in our churches and pray together for Australia. There will also be lots of opportunities to learn from churches across the network through case studies\, panels\, workshops\, networking lunches and shared meals.
URL:https://mountview.church/?tribe_events=reach-australia-conference
LOCATION:Central Coast NSW
ATTACH;FMTTYPE=image/png:https://mountview.church/wp-content/uploads/2025/02/Screenshot-2025-02-23-at-6.32.22 AM-e1740252944517.png
END:VEVENT
BEGIN:VEVENT
DTSTART;TZID=Australia/Sydney:20260524T100000
DTEND;TZID=Australia/Sydney:20260524T170000
DTSTAMP:20260424T090951
CREATED:20240608T022850Z
LAST-MODIFIED:20260418T230649Z
UID:8372-1779616800-1779642000@mountview.church
SUMMARY:LORD'S SUPPER
DESCRIPTION:On this day we will celebrate God’s grace and forgiveness through His table at both Tuggeranong & Jerrabomberra services. Gluten free options are available and our church has an open table policy (i.e. we leave participation to the discretion of the individual / parents\, with the expectation that those who do acknowledge their sin & subsequent need of Christ’s free offer of salvation).
URL:https://mountview.church/?tribe_events=lords-supper
LOCATION:Gowrie ACT & Jerra NSW
ATTACH;FMTTYPE=image/jpeg:https://mountview.church/wp-content/uploads/2024/06/Bread-scaled-e1717813587219.jpg
END:VEVENT
BEGIN:VEVENT
DTSTART;TZID=Australia/Sydney:20260529T093000
DTEND;TZID=Australia/Sydney:20260529T150000
DTSTAMP:20260424T090951
CREATED:20260308T031014Z
LAST-MODIFIED:20260308T171722Z
UID:9576-1780047000-1780066800@mountview.church
SUMMARY:STEVE McALPINE - JESUS VS THE GODS
DESCRIPTION:Stephen McAlpine who spoke at our church camp last year will be comparing Christianity with other religions. Steve is an author and national communicator for City Bible Forum. As a former journalist and veteran church planter\, he writes extensively on the tensions between religious belief and secular culture. He is best known for his award-winning books and his work helping the church live faithfully in a culture of rapid change. To purchase tix to this event click here
URL:https://mountview.church/?tribe_events=jesus-vs-the-gods
LOCATION:Belconnen ACT
ATTACH;FMTTYPE=image/png:https://mountview.church/wp-content/uploads/2026/03/Screenshot-2026-03-08-at-2.07.07-PM-e1772939403970.png
END:VEVENT
BEGIN:VEVENT
DTSTART;TZID=Australia/Sydney:20261025T100000
DTEND;TZID=Australia/Sydney:20261025T170000
DTSTAMP:20260424T090951
CREATED:20240127T052628Z
LAST-MODIFIED:20260302T051404Z
UID:8142-1792922400-1792947600@mountview.church
SUMMARY:COMPASSION DAY
DESCRIPTION:Compassion Australia will be presenting at both campuses on May 25 to tell us about Compassion’s work and share the plight of a number of kids currently seeking sponsorship
URL:https://mountview.church/?tribe_events=compassion-day
ATTACH;FMTTYPE=image/png:https://mountview.church/wp-content/uploads/2024/01/Screenshot-2024-01-27-at-4.19.54-pm.png
END:VEVENT
BEGIN:VEVENT
DTSTART;TZID=Australia/Sydney:20270404T080000
DTEND;TZID=Australia/Sydney:20270411T170000
DTSTAMP:20260424T090951
CREATED:20260401T043323Z
LAST-MODIFIED:20260401T043323Z
UID:9614-1806825600-1807462800@mountview.church
SUMMARY:SMBC MISSION TEAM
DESCRIPTION:A Sydney Missionary & Bible College mission team will be coming down for students to experience church ministry and outreach in our city and region. They’ll be serving at each of our campuses on both weekends and throughout the week in between. To billet students and faculty while they’re here or to find out more\, contact one of our staff team.
URL:https://mountview.church/?tribe_events=smbc-mission-team
ATTACH;FMTTYPE=image/png:https://mountview.church/wp-content/uploads/2026/04/Screenshot-2026-04-01-at-3.31.30-PM-e1775017930871.png
END:VEVENT
END:VCALENDAR